BEGIN:VCALENDAR
VERSION:2.0
PRODID:-//Your Organization//NONSGML v1.0//EN
BEGIN:VEVENT
UID:69ea380f69699
DTSTAMP:20260423T171735
DTSTART:20260430T190000
DTEND:20260430T220000
SUMMARY:Pint & Sip
DESCRIPTION:Liker du å male samtidig som du har noe i glasset? Diskuterbar hjelper deg. 
LOCATION:Diskuterbar, Professor keysers gate 1
END:VEVENT
END:VCALENDAR