BEGIN:VCALENDAR
VERSION:2.0
PRODID:-//Your Organization//NONSGML v1.0//EN
BEGIN:VEVENT
UID:69e8cef5a53af
DTSTAMP:20260422T153653
DTSTART:20260503T120000
DTEND:20260503T160000
SUMMARY:Landåspikenes bruktmarked
DESCRIPTION:Velkommen på skattejakt for store og små!
LOCATION:Thon Senter Bergen
END:VEVENT
END:VCALENDAR