BEGIN:VCALENDAR
VERSION:2.0
PRODID:-//Your Organization//NONSGML v1.0//EN
BEGIN:VEVENT
UID:69e7d852357c2
DTSTAMP:20260421T220434
DTSTART:20260428T180000
DTEND:20260428T200000
SUMMARY:Smart KI, Urettferdig Verden
DESCRIPTION:Panelsamtale om KI: etiske spørsmål spesielt rundt det globale sør
LOCATION:Speilsalen, Det Akademiske Kvarter
END:VEVENT
END:VCALENDAR