BEGIN:VCALENDAR
VERSION:2.0
PRODID:-//Your Organization//NONSGML v1.0//EN
BEGIN:VEVENT
UID:69e5c1dfc8712
DTSTAMP:20260420T080415
DTSTART:20260428T160000
DTEND:20260428T193000
SUMMARY:Bruktmarked
DESCRIPTION:Mikrofestivalen holder bruktmarked i bakgården på Kvarteret!
LOCATION:Olav Kyrres gate 49
END:VEVENT
END:VCALENDAR