BEGIN:VCALENDAR
VERSION:2.0
PRODID:-//Your Organization//NONSGML v1.0//EN
BEGIN:VEVENT
UID:69e5c15daf5b6
DTSTAMP:20260420T080205
DTSTART:20260428T200000
DTEND:20260428T230000
SUMMARY:Antologislipp: Noko varar, alt går over
DESCRIPTION:Mikrofestivalen presenterer antologislipp: Noko varar, alt går over
LOCATION:Fortunen 7
END:VEVENT
END:VCALENDAR