BEGIN:VCALENDAR
VERSION:2.0
PRODID:-//Your Organization//NONSGML v1.0//EN
BEGIN:VEVENT
UID:69e5c0cc2617c
DTSTAMP:20260420T075940
DTSTART:20260429T200000
DTEND:20260429T235900
SUMMARY:Feil dør! Et musikalsk potpurri og musikalpub
DESCRIPTION:Mikrofestivalen presenterer: Feil dør! Et musikalsk potpurri og musikalpub
LOCATION:Olav Kyrres gate 49
END:VEVENT
END:VCALENDAR