BEGIN:VCALENDAR
VERSION:2.0
PRODID:-//Your Organization//NONSGML v1.0//EN
BEGIN:VEVENT
UID:69e5c070bdf6b
DTSTAMP:20260420T075808
DTSTART:20260428T170000
DTEND:20260502T190000
SUMMARY:Milwaukee
DESCRIPTION:Mikrofestivalen presenterer teaterforestillingen: Milwaukee
LOCATION:Olav Kyrres gate 49
END:VEVENT
END:VCALENDAR