BEGIN:VCALENDAR
VERSION:2.0
PRODID:-//Your Organization//NONSGML v1.0//EN
BEGIN:VEVENT
UID:69e5c1b08956d
DTSTAMP:20260420T080328
DTSTART:20260427T200000
DTEND:20260502T201500
SUMMARY:Scenarios
DESCRIPTION:Mikrofestivalen presenterer teaterforestillingen \"Scenarios\"
LOCATION:Olav Kyrres gate 49
END:VEVENT
END:VCALENDAR