BEGIN:VCALENDAR
VERSION:2.0
PRODID:-//Your Organization//NONSGML v1.0//EN
BEGIN:VEVENT
UID:69e5c11467041
DTSTAMP:20260420T080052
DTSTART:20260427T180000
DTEND:20260501T200000
SUMMARY:Til vi blir stjernestøv
DESCRIPTION:Mikrofestivalen presenterer teaterforestillingen: Til vi blir stjernestøv
LOCATION:Olav Kyrres gate 49
END:VEVENT
END:VCALENDAR