BEGIN:VCALENDAR
VERSION:2.0
PRODID:-//Your Organization//NONSGML v1.0//EN
BEGIN:VEVENT
UID:69e5c0db65452
DTSTAMP:20260420T075955
DTSTART:20260427T170000
DTEND:20260502T230000
SUMMARY:Mikrofestivalen!
DESCRIPTION:Studentteateret Immaturus presenterer Mikrofestivalen 2026
LOCATION:Olav Kyrres gate 49
END:VEVENT
END:VCALENDAR