BEGIN:VCALENDAR
VERSION:2.0
PRODID:-//Your Organization//NONSGML v1.0//EN
BEGIN:VEVENT
UID:69eb2f4b0e427
DTSTAMP:20260424T105227
DTSTART:20260530T103000
DTEND:20260530T120000
SUMMARY:Ulriken opp 26 - motbakkeløp
DESCRIPTION:Bli med på motbakkeløpet Ulriken Opp og test utholdenheten din. 
LOCATION:Ulriken
END:VEVENT
END:VCALENDAR