BEGIN:VCALENDAR
VERSION:2.0
PRODID:-//Your Organization//NONSGML v1.0//EN
BEGIN:VEVENT
UID:69eb2fbf189b3
DTSTAMP:20260424T105423
DTSTART:20260610T150000
DTEND:20260613T235500
SUMMARY:Bergenfest 2026
DESCRIPTION:Avslutt semesteret med musikk på Bergenfest!
LOCATION:Koengen, Bergenhus festning
END:VEVENT
END:VCALENDAR